BEGIN:VCALENDAR
VERSION:2.0
PRODID:-//Unità Pastorale giffoni - ECPv5.16.4//NONSGML v1.0//EN
CALSCALE:GREGORIAN
METHOD:PUBLISH
X-ORIGINAL-URL:https://unitapastoralegiffonivp.it
X-WR-CALDESC:Events for Unità Pastorale giffoni
REFRESH-INTERVAL;VALUE=DURATION:PT1H
X-Robots-Tag:noindex
X-PUBLISHED-TTL:PT1H
BEGIN:VTIMEZONE
TZID:Europe/Rome
BEGIN:DAYLIGHT
TZOFFSETFROM:+0100
TZOFFSETTO:+0200
TZNAME:CEST
DTSTART:20220327T010000
END:DAYLIGHT
BEGIN:STANDARD
TZOFFSETFROM:+0200
TZOFFSETTO:+0100
TZNAME:CET
DTSTART:20221030T010000
END:STANDARD
BEGIN:DAYLIGHT
TZOFFSETFROM:+0100
TZOFFSETTO:+0200
TZNAME:CEST
DTSTART:20230326T010000
END:DAYLIGHT
BEGIN:STANDARD
TZOFFSETFROM:+0200
TZOFFSETTO:+0100
TZNAME:CET
DTSTART:20231029T010000
END:STANDARD
END:VTIMEZONE
BEGIN:VEVENT
DTSTART;TZID=Europe/Rome:20230929T080000
DTEND;TZID=Europe/Rome:20230929T170000
DTSTAMP:20260425T144123
CREATED:20230929T161228Z
LAST-MODIFIED:20230929T161228Z
UID:7144-1695974400-1696006800@unitapastoralegiffonivp.it
SUMMARY:MODULO ISCRIZIONI CATECHISMO
DESCRIPTION:PER ISCRIVERSI AL CATECHISMO STAMPA E COMPILA IL MODULO \nmodulo iscrizione catechismo modulo iscrizione catechismo
URL:https://unitapastoralegiffonivp.it/evento/modulo-iscrizioni-catechismo/
ATTACH;FMTTYPE=image/jpeg:https://unitapastoralegiffonivp.it/wp-content/uploads/2023/09/PHOTO-2023-09-28-22-57-21.jpg
END:VEVENT
BEGIN:VEVENT
DTSTART;TZID=Europe/Rome:20230808T190000
DTEND;TZID=Europe/Rome:20230811T000000
DTSTAMP:20260425T144123
CREATED:20230802T075239Z
LAST-MODIFIED:20230802T075239Z
UID:7134-1691521200-1691712000@unitapastoralegiffonivp.it
SUMMARY:8/9/10/11 Agosto 2023 Sagra di San Lorenzo
DESCRIPTION:
URL:https://unitapastoralegiffonivp.it/evento/8-9-10-11-agosto-2023-sagra-di-san-lorenzo/
LOCATION:chiesa san lorenzo\, Via F. Mancusi\, Giffoni Valle Piana\, SA\, 84095\, Italia
ATTACH;FMTTYPE=image/jpeg:https://unitapastoralegiffonivp.it/wp-content/uploads/2023/08/PHOTO-2023-07-31-09-04-00.jpg
END:VEVENT
BEGIN:VEVENT
DTSTART;TZID=Europe/Rome:20230801T173000
DTEND;TZID=Europe/Rome:20230810T000000
DTSTAMP:20260425T144123
CREATED:20230802T073951Z
LAST-MODIFIED:20230802T074610Z
UID:7131-1690911000-1691625600@unitapastoralegiffonivp.it
SUMMARY:Festa di San Lorenzo- chiesa San Lorenzo M.
DESCRIPTION:
URL:https://unitapastoralegiffonivp.it/evento/festa-di-san-lorenzo-chiesa-san-lorenzo-m/
ATTACH;FMTTYPE=image/jpeg:https://unitapastoralegiffonivp.it/wp-content/uploads/2023/08/PHOTO-2023-07-31-08-54-08.jpg
END:VEVENT
BEGIN:VEVENT
DTSTART;TZID=Europe/Rome:20221030T080000
DTEND;TZID=Europe/Rome:20221031T170000
DTSTAMP:20260425T144123
CREATED:20221029T070702Z
LAST-MODIFIED:20221029T070702Z
UID:7096-1667116800-1667235600@unitapastoralegiffonivp.it
SUMMARY:Celebrazioni in Cimitero
DESCRIPTION:Padre Charles de Foucauld (1858-1916)\, fondatore dei “Piccoli Fratelli del Sacro Cuore”\, era solito dire: «Voglio gridare il Vangelo con la mia vita». Morirà assassinato durante un tentativo di rapina. Il suo corpo sarà trovato nella sabbia con accanto l’ostensorio\, davanti al quale trascorreva lunghe ore di adorazione eucaristica. Ci ha lasciato la più bella preghiera di fiducia:
URL:https://unitapastoralegiffonivp.it/evento/celebrazioni-in-cimitero/
LOCATION:Chiesa della Santissima Annunziata\, Piazza Annunziata Mercato\, Giffoni Valle Piana\, Salerno\, 84095\, Italia
CATEGORIES:Eventi Religiosi
ATTACH;FMTTYPE=image/jpeg:https://unitapastoralegiffonivp.it/wp-content/uploads/2022/10/Nuovo-progetto-13-scaled.jpg
END:VEVENT
END:VCALENDAR